BEGIN:VCALENDAR
VERSION:2.0
METHOD:PUBLISH
X-WR-CALNAME:Department of Energy Science and Engineering  |  November 21 2023- December 21 2023
PRODID:-//strange bird labs//Drupal iCal API//EN
BEGIN:VEVENT
DTSTAMP;VALUE=DATE-TIME:20260425T162639Z
DTSTART;VALUE=DATE-TIME:20231211T193000Z
DTEND;VALUE=DATE-TIME:20231214T192900Z
UID:https://www.ese.iitb.ac.in/content/icaer-2023
URL;VALUE=URI:https://www.ese.iitb.ac.in/content/icaer-2023
SUMMARY:ICAER 2023
END:VEVENT
END:VCALENDAR
